BEGIN:VCALENDAR
VERSION:2.0
PRODID:-//wp-events-plugin.com//7.2.3.1//EN
BEGIN:VEVENT
UID:18@pedagogie.u-pec.fr
DTSTART;TZID=Europe/Paris:20260210T093000
DTEND;TZID=Europe/Paris:20260210T123000
DTSTAMP:20251105T084931Z
URL:https://pedagogie.u-pec.fr/ateliers/concevoir_et_accompagner_le_travai
 l_de_groupe/
SUMMARY:Concevoir et accompagner le travail de groupe
DESCRIPTION:\nConcevoir et accompagner le travail de groupe\nDescription :\
 nLe travail en groupe est une approche pédagogique souvent utilisée dans
  l’enseignement supérieur. En effet\, cela peut renforcer l’engagemen
 t des étudiants\, stimuler leur réflexion critique et leur permettre d
 ’élaborer des productions originales de manière collective.  Il est d
 onc important de concevoir des activités adaptées et d’intégrer la pr
 éparation des étudiants à cette modalité de travail dans votre scénar
 io. Cet atelier vous permettra d’en savoir plus sur la gestion de groupe
  et l’évaluation des travaux collectifs\, en abordant les conditions fa
 vorables à une dynamique de travail efficace. Il vous sera également pro
 posé des outils collaboratifs pouvant être mis à disposition de vos ét
 udiants afin de faciliter les interactions intra-groupe.\n\nObjectifs d'ap
 prentissage :\n\n 	Identifier les facteurs qui influencent le fonctionneme
 nt d’un groupe\n 	Développer des stratégies liées à l’animation de
  groupe\n 	Découvrir des méthodes et des outils favorisant le travail co
 llaboratif\n 	Choisir des méthodes adaptées à l’évaluation d’une p
 roduction collective\n\nDate : \n10/02/2026 de 9h30 à 12h30\n\nLieu :\nS
 alle Edulab de Fabuval\nAu niveau du couloir P3 de la faculté des science
 s et techniques de l’UPEC (Campus centre – métro Créteil Université
 )\n\n\n    .post-meta{\n        display: none\;\n    }\n    .em-event-book
 ings-meta{\n        display: none\;\n    }\n    .et_post_meta_wrapper{\n  
       display: none\;\n    }\n    section.em-item-meta-column{\n        di
 splay: none\;\n    }\n    div#respond.comment-respond{\n        display: n
 one\;\n    }\n    h1.entry-title.main_title{\n        display: none\;\n   
  }\n
END:VEVENT
BEGIN:VTIMEZONE
TZID:Europe/Paris
X-LIC-LOCATION:Europe/Paris
BEGIN:STANDARD
DTSTART:20251026T020000
TZOFFSETFROM:+0200
TZOFFSETTO:+0100
TZNAME:CET
END:STANDARD
END:VTIMEZONE
END:VCALENDAR