BEGIN:VCALENDAR
VERSION:2.0
PRODID:-//wp-events-plugin.com//7.2.3.1//EN
BEGIN:VEVENT
UID:23@pedagogie.u-pec.fr
DTSTART;TZID=Europe/Paris:20250205T140000
DTEND;TZID=Europe/Paris:20250205T170000
DTSTAMP:20240621T121837Z
URL:https://pedagogie.u-pec.fr/ateliers/concevoir_et_scenariser_son_cours_
 en_ligne/
SUMMARY:Concevoir et réaliser son cours en ligne
DESCRIPTION:Concevoir et réaliser son cours en ligne		\n		Description : L
 ’objectif de cet atelier sera d’explorer la construction d’un cours 
 en ligne au travers d’exemples de scénarii pédagogiques. Un focus sur 
 la conception de cours sur Eprel sera également proposé. Objectifs d'ap
 prentissage :citer les différentes modalités : enseignement hybride\, pr
 ésentiel enrichi\, etc\,expliquer les notions de synchrone et asynchrone\
 ,scénariser son cours sur Eprel.Date : 05/02/2025 de 14h à 17hLieu :Sal
 le Edulab de FabuvalAu niveau du couloir P3 de la faculté des sciences et
  techniques de l’UPEC (Campus centre – métro Créteil Université)		\
 n			\n    .post-meta{\n        display: none\;\n    }\n    .em-event-booki
 ngs-meta{\n        display: none\;\n    }\n    .et_post_meta_wrapper{\n   
      display: none\;\n    }\n    section.em-item-meta-column{\n        dis
 play: none\;\n    }\n    div#respond.comment-respond{\n        display: no
 ne\;\n    }\n    h1.entry-title.main_title{\n        display: none\;\n    
 }\n
END:VEVENT
BEGIN:VTIMEZONE
TZID:Europe/Paris
X-LIC-LOCATION:Europe/Paris
BEGIN:STANDARD
DTSTART:20241027T020000
TZOFFSETFROM:+0200
TZOFFSETTO:+0100
TZNAME:CET
END:STANDARD
END:VTIMEZONE
END:VCALENDAR