BEGIN:VCALENDAR
VERSION:2.0
PRODID:-//wp-events-plugin.com//7.2.3.1//EN
BEGIN:VEVENT
UID:22@pedagogie.u-pec.fr
DTSTART;TZID=Europe/Paris:20231117T103000
DTEND;TZID=Europe/Paris:20231117T120000
DTSTAMP:20230906T114350Z
URL:https://pedagogie.u-pec.fr/ateliers/concevoir_un_qcm_sur_eprel/
SUMMARY:Concevoir un QCM sur Eprel
DESCRIPTION:\n    .post-meta{\n        display: none\;\n    }\n    .em-even
 t-bookings-meta{\n        display: none\;\n    }\n    .et_post_meta_wrappe
 r{\n        display: none\;\n    }\n    section.em-item-meta-column{\n    
     display: none\;\n    }\n    div#respond.comment-respond{\n        disp
 lay: none\;\n    }\n    h1.entry-title.main_title{\n        display: none\
 ;\n    }\n		\n			Concevoir un QCM sur Eprel		\n			Prochaine session :17/11
 /2023 de 14h à 15h30Lieu :Distanciel		\n															
END:VEVENT
BEGIN:VTIMEZONE
TZID:Europe/Paris
X-LIC-LOCATION:Europe/Paris
BEGIN:STANDARD
DTSTART:20231029T020000
TZOFFSETFROM:+0200
TZOFFSETTO:+0100
TZNAME:CET
END:STANDARD
END:VTIMEZONE
END:VCALENDAR