BEGIN:VCALENDAR
VERSION:2.0
PRODID:-//wp-events-plugin.com//7.2.3.1//EN
BEGIN:VEVENT
UID:8@pedagogie.u-pec.fr
DTSTART;TZID=Europe/Paris:20251104T093000
DTEND;TZID=Europe/Paris:20251104T123000
DTSTAMP:20251105T084807Z
URL:https://pedagogie.u-pec.fr/ateliers/creer_de_la_coherence_dans_ses_ens
 eignements/
SUMMARY:Créer de la cohérence dans ses enseignements
DESCRIPTION:\n    .post-meta{\n        display: none\;\n    }\n    .em-even
 t-bookings-meta{\n        display: none\;\n    }\n    .et_post_meta_wrappe
 r{\n        display: none\;\n    }\n    section.em-item-meta-column{\n    
     display: none\;\n    }\n    div#respond.comment-respond{\n        disp
 lay: none\;\n    }\n    h1.entry-title.main_title{\n        display: none\
 ;\n    }\n				\n					Créer de la cohérence dans ses enseignements (écha
 nge et pratique)				\n		Description :Cette formation propose d’apprendre
  à définir des objectifs clairs\, à évaluer les apprentissages de mani
 ère pertinente et à construire des scénarios pédagogiques ou un syllab
 us pour structurer et expliciter ses enseignements.\nObjectifs d'apprentis
 sage :\n\nRédiger des objectifs d’apprentissage selon la méthode des 5
  critères et la taxonomie de Bloom\nProposer des activités d’apprentis
 sage et d’évaluation qui permettent d’atteindre les objectifs fixés\
 nUtiliser des outils pour objectiver au maximum son évaluation\nUtiliser 
 le scénario pédagogique pour garantir l'alignement pédagogique\nUtilise
 r le syllabus pour expliciter ses attentes et démontrer l’alignement de
  son enseignement\n\nDate :&nbsp\;04/11/2025 de 9h30 à 11h30\nLieu :Salle
  Edulab de FabuvalAu niveau du couloir P3 de la faculté des sciences et t
 echniques de l’UPEC (Campus centre – métro Créteil Université)
END:VEVENT
BEGIN:VTIMEZONE
TZID:Europe/Paris
X-LIC-LOCATION:Europe/Paris
BEGIN:STANDARD
DTSTART:20251026T020000
TZOFFSETFROM:+0200
TZOFFSETTO:+0100
TZNAME:CET
END:STANDARD
END:VTIMEZONE
END:VCALENDAR