BEGIN:VCALENDAR
VERSION:2.0
PRODID:-//wp-events-plugin.com//7.2.3.1//EN
BEGIN:VEVENT
UID:26@pedagogie.u-pec.fr
DTSTART;TZID=Europe/Paris:20240305T140000
DTEND;TZID=Europe/Paris:20240305T170000
DTSTAMP:20230901T095629Z
URL:https://pedagogie.u-pec.fr/ateliers/creer_des_ressources_avec_le_rapid
 -learning/
SUMMARY:Créer des ressources en ligne avec le “rapid-learning”
DESCRIPTION:\n    .post-meta{\n        display: none\;\n    }\n    .em-even
 t-bookings-meta{\n        display: none\;\n    }\n    .et_post_meta_wrappe
 r{\n        display: none\;\n    }\n    section.em-item-meta-column{\n    
     display: none\;\n    }\n    div#respond.comment-respond{\n        disp
 lay: none\;\n    }\n    h1.entry-title.main_title{\n        display: none\
 ;\n    }\n		\n			Créer des ressources en ligne avec le “rapid-learning
 ”		\n			Prochaine session :05/03/2024 de 14h à 17hLieu :Salle Edulab de
  FabuvalAu niveau du couloir P3 de la faculté des sciences et techniques 
 de l’UPEC (Campus centre – métro Créteil Université)		\n											
 				
END:VEVENT
BEGIN:VTIMEZONE
TZID:Europe/Paris
X-LIC-LOCATION:Europe/Paris
BEGIN:STANDARD
DTSTART:20231029T020000
TZOFFSETFROM:+0200
TZOFFSETTO:+0100
TZNAME:CET
END:STANDARD
END:VTIMEZONE
END:VCALENDAR