BEGIN:VCALENDAR
VERSION:2.0
PRODID:-//wp-events-plugin.com//7.2.3.1//EN
BEGIN:VEVENT
UID:21@pedagogie.u-pec.fr
DTSTART;TZID=Europe/Paris:20231110T103000
DTEND;TZID=Europe/Paris:20231110T120000
DTSTAMP:20231026T081652Z
URL:https://pedagogie.u-pec.fr/ateliers/creer_et_gerer_des_groupes_sur_epr
 el/
SUMMARY:Créer et gérer des groupes sur Eprel
DESCRIPTION:\n    .post-meta{\n        display: none\;\n    }\n    .em-even
 t-bookings-meta{\n        display: none\;\n    }\n    .et_post_meta_wrappe
 r{\n        display: none\;\n    }\n    section.em-item-meta-column{\n    
     display: none\;\n    }\n    div#respond.comment-respond{\n        disp
 lay: none\;\n    }\n    h1.entry-title.main_title{\n        display: none\
 ;\n    }\n\n\nCréer et gérer des groupes sur Eprel\n\n 	Prochaine sessio
 n :\n10/11/2023 de 10h30 à 12h\n\n\n 	Lieu :\nEn distanciel\n\n
LOCATION:À distance\, un lien d'invitation vous sera envoyé\, peu avant l
 e début de la formation\, France
X-APPLE-STRUCTURED-LOCATION;VALUE=URI;X-ADDRESS=un lien d'invitation vous s
 era envoyé\, peu avant le début de la formation\, France;X-APPLE-RADIUS=
 100;X-TITLE=À distance:geo:0,0
END:VEVENT
BEGIN:VTIMEZONE
TZID:Europe/Paris
X-LIC-LOCATION:Europe/Paris
BEGIN:STANDARD
DTSTART:20231029T020000
TZOFFSETFROM:+0200
TZOFFSETTO:+0100
TZNAME:CET
END:STANDARD
END:VTIMEZONE
END:VCALENDAR