BEGIN:VCALENDAR
VERSION:2.0
PRODID:-//wp-events-plugin.com//7.2.3.1//EN
BEGIN:VEVENT
UID:15@pedagogie.u-pec.fr
DTSTART;TZID=Europe/Paris:20250314T093000
DTEND;TZID=Europe/Paris:20250314T123000
DTSTAMP:20240621T122035Z
URL:https://pedagogie.u-pec.fr/ateliers/creer_et_utiliser_des_activites_in
 tegratrices/
SUMMARY:APC : Créer et utiliser des situations d'apprentissage et d'évalu
 ation (SAÉ)
DESCRIPTION:APC : Créer et utiliser des situations d'apprentissage et d'é
 valuation (SAÉ)		\n		Description : De plus en plus d’universités se to
 urnent vers de nouvelles approches pédagogiques qui nécessitent un trava
 il en équipe pédagogique. Les SAÉ permettent aux étudiants de faire le
  lien entre plusieurs de leurs enseignements dans un but professionnalisan
 t. Lors de cet atelier\, nous aborderons la construction de SAÉ au traver
 s de la notion d’approche-programme et d’approche par compétence\, et
  nous verrons également quelques exemples.Objectifs d'apprentissage :Déf
 inir les situations d’apprentissage et d’évaluation (SAÉ)Identifier 
 les étapes de conception d’une SAÉ Concevoir une SAÉDate : 14/03/20
 25 de 9h30 à 12h30Lieu :Salle Edulab de FabuvalAu niveau du couloir P3 de
  la faculté des sciences et techniques de l’UPEC (Campus centre – mé
 tro Créteil Université)		\n			\n    .post-meta{\n        display: none\;
 \n    }\n    .em-event-bookings-meta{\n        display: none\;\n    }\n   
  .et_post_meta_wrapper{\n        display: none\;\n    }\n    section.em-it
 em-meta-column{\n        display: none\;\n    }\n    div#respond.comment-r
 espond{\n        display: none\;\n    }\n    h1.entry-title.main_title{\n 
        display: none\;\n    }\n
END:VEVENT
BEGIN:VTIMEZONE
TZID:Europe/Paris
X-LIC-LOCATION:Europe/Paris
BEGIN:STANDARD
DTSTART:20241027T020000
TZOFFSETFROM:+0200
TZOFFSETTO:+0100
TZNAME:CET
END:STANDARD
END:VTIMEZONE
END:VCALENDAR