BEGIN:VCALENDAR
VERSION:2.0
PRODID:-//wp-events-plugin.com//7.2.3.1//EN
BEGIN:VEVENT
UID:24@pedagogie.u-pec.fr
DTSTART;TZID=Europe/Paris:20241204T140000
DTEND;TZID=Europe/Paris:20241204T170000
DTSTAMP:20240621T120335Z
URL:https://pedagogie.u-pec.fr/ateliers/creer_et_utiliser_une_video_pedago
 gique_avec_eprel_video/
SUMMARY:Créer et utiliser une vidéo pédagogique avec Eprel Vidéo
DESCRIPTION:Créer et utiliser une vidéo pédagogique avec Eprel vidéo		\
 n		Description : Cet atelier portera principalement sur l’utilisation de
  la solution vidéo disponible sur Eprel Vidéo.Objectifs d'apprentissage 
 :définir les fondamentaux de la vidéo pédagogique\,utiliser Eprel Vidé
 o\,créer une ressource vidéo sur Eprel Vidéo\,identifier les éléments
  pour l’utilisation de cette vidéo comme activité pédagogique.Date :
  04/12/2024 de 14h à 17hLieu :Salle Edulab de FabuvalAu niveau du couloi
 r P3 de la faculté des sciences et techniques de l’UPEC (Campus centre 
 – métro Créteil Université)		\n			\n    .post-meta{\n        display:
  none\;\n    }\n    .em-event-bookings-meta{\n        display: none\;\n   
  }\n    .et_post_meta_wrapper{\n        display: none\;\n    }\n    sectio
 n.em-item-meta-column{\n        display: none\;\n    }\n    div#respond.co
 mment-respond{\n        display: none\;\n    }\n    h1.entry-title.main_ti
 tle{\n        display: none\;\n    }\n
END:VEVENT
BEGIN:VTIMEZONE
TZID:Europe/Paris
X-LIC-LOCATION:Europe/Paris
BEGIN:STANDARD
DTSTART:20241027T020000
TZOFFSETFROM:+0200
TZOFFSETTO:+0100
TZNAME:CET
END:STANDARD
END:VTIMEZONE
END:VCALENDAR