BEGIN:VCALENDAR
VERSION:2.0
PRODID:-//wp-events-plugin.com//7.2.3.1//EN
BEGIN:VEVENT
UID:25@pedagogie.u-pec.fr
DTSTART;TZID=Europe/Paris:20241211T140000
DTEND;TZID=Europe/Paris:20241211T170000
DTSTAMP:20240621T120650Z
URL:https://pedagogie.u-pec.fr/ateliers/creer_un_diaporama_pedagogique/
SUMMARY:Créer un diaporama pédagogique
DESCRIPTION:Créer un diaporama pédagogique		\n		Description :Cet atelier
  sera l’occasion d’utiliser les normes de présentation universitaires
  afin de créer un diaporama pédagogique attractif\, adapté à votre con
 texte et à vos objectifs pédagogiques.Objectifs d'apprentissage :identif
 ier les fondamentaux d’un diaporama pédagogique\,dissocier support visu
 el d’un cours présentiel et support visuel pour l’autoformation\,prod
 uire un diaporama pédagogique en utilisant des règles graphiques et colo
 rimétriques essentielles.Date : 11/12/2024 de 14h à 17hLieu :Salle Edul
 ab de FabuvalAu niveau du couloir P3 de la faculté des sciences et techni
 ques de l’UPEC (Campus centre – métro Créteil Université)		\n			\n 
    .post-meta{\n        display: none\;\n    }\n    .em-event-bookings-met
 a{\n        display: none\;\n    }\n    .et_post_meta_wrapper{\n        di
 splay: none\;\n    }\n    section.em-item-meta-column{\n        display: n
 one\;\n    }\n    div#respond.comment-respond{\n        display: none\;\n 
    }\n    h1.entry-title.main_title{\n        display: none\;\n    }\n
END:VEVENT
BEGIN:VTIMEZONE
TZID:Europe/Paris
X-LIC-LOCATION:Europe/Paris
BEGIN:STANDARD
DTSTART:20241027T020000
TZOFFSETFROM:+0200
TZOFFSETTO:+0100
TZNAME:CET
END:STANDARD
END:VTIMEZONE
END:VCALENDAR