BEGIN:VCALENDAR
VERSION:2.0
PRODID:-//wp-events-plugin.com//7.2.3.1//EN
BEGIN:VEVENT
UID:9@pedagogie.u-pec.fr
DTSTART;TZID=Europe/Paris:20240227T090000
DTEND;TZID=Europe/Paris:20240227T120000
DTSTAMP:20231127T093337Z
URL:https://pedagogie.u-pec.fr/ateliers/evaluer_les_apprentissages_des_etu
 diants/
SUMMARY:Évaluer les apprentissages des étudiants
DESCRIPTION:\n    .post-meta{\n        display: none\;\n    }\n    .em-even
 t-bookings-meta{\n        display: none\;\n    }\n    .et_post_meta_wrappe
 r{\n        display: none\;\n    }\n    section.em-item-meta-column{\n    
     display: none\;\n    }\n    div#respond.comment-respond{\n        disp
 lay: none\;\n    }\n    h1.entry-title.main_title{\n        display: none\
 ;\n    }\n		\n			Évaluer les apprentissages des étudiants		\n			Prochain
 e session :27/02/2024 de 9h à 12hLieu :Salle Edulab de FabuvalAu niveau d
 u couloir P3 de la faculté des sciences et techniques de l’UPEC (Campus
  centre – métro Créteil Université)		\n															
END:VEVENT
BEGIN:VTIMEZONE
TZID:Europe/Paris
X-LIC-LOCATION:Europe/Paris
BEGIN:STANDARD
DTSTART:20231029T020000
TZOFFSETFROM:+0200
TZOFFSETTO:+0100
TZNAME:CET
END:STANDARD
END:VTIMEZONE
END:VCALENDAR