BEGIN:VCALENDAR
VERSION:2.0
PRODID:-//wp-events-plugin.com//7.2.3.1//EN
BEGIN:VEVENT
UID:33@pedagogie.u-pec.fr
DTSTART;TZID=Europe/Paris:20250214T133000
DTEND;TZID=Europe/Paris:20250214T163000
DTSTAMP:20250619T131743Z
URL:https://pedagogie.u-pec.fr/ateliers/mobiliser-la-ludopedagogie-concept
 ion-2-2/
SUMMARY:Mobiliser la ludopédagogie : Conception (2/2)
DESCRIPTION:\n    .post-meta{\n        display: none\;\n    }\n    .em-even
 t-bookings-meta{\n        display: none\;\n    }\n    .et_post_meta_wrappe
 r{\n        display: none\;\n    }\n    section.em-item-meta-column{\n    
     display: none\;\n    }\n    div#respond.comment-respond{\n        disp
 lay: none\;\n    }\n    h1.entry-title.main_title{\n        display: none\
 ;\n    }\n				\n		[et_pb_section admin_label="section"]\n[et_pb_row admin_
 label="row"]\n[et_pb_column type="4_4"][et_pb_text admin_label="Text"]\n\n
     .post-meta{        display: none\;    }    .em-event-bookings-meta{   
      display: none\;    }    .et_post_meta_wrapper{        display: none\;
     }    section.em-item-meta-column{        display: none\;    }    div#r
 espond.comment-respond{        display: none\;    }    h1.entry-title.main
 _title{        display: none\;    }\nMobiliser la ludopédagogie : Concept
 ion (2/2)\nDescription :\nPlongez dans l’univers de l’apprentissage pa
 r le jeu et explorez ses enjeux et techniques pour dynamiser vos enseignem
 ents et engager vos étudiants.\nObjectifs d'apprentissage :\n\n 	Décrire
  les principes fondamentaux et les enjeux de la ludopédagogie\n 	Identifi
 er les effets de la ludopédagogie sur les apprentissages\n 	Différencier
  les différentes catégories de jeux mobilisables dans les enseignements\
 n 	Concevoir un scénario pédagogique intégrant la ludopédagogie\n\nDat
 e : \n14/02/2025 de 13h30 à 16h30\nLieu :\nSalle Edulab de Fabuval\nAu n
 iveau du couloir P3 de la faculté des sciences et techniques de l’UPEC 
 (Campus centre – métro Créteil Université)[/et_pb_text][/et_pb_column
 ]\n[/et_pb_row]\n[/et_pb_section]
END:VEVENT
BEGIN:VTIMEZONE
TZID:Europe/Paris
X-LIC-LOCATION:Europe/Paris
BEGIN:STANDARD
DTSTART:20241027T020000
TZOFFSETFROM:+0200
TZOFFSETTO:+0100
TZNAME:CET
END:STANDARD
END:VTIMEZONE
END:VCALENDAR