BEGIN:VCALENDAR
VERSION:2.0
PRODID:-//wp-events-plugin.com//7.2.3.1//EN
BEGIN:VEVENT
UID:32@pedagogie.u-pec.fr
DTSTART;TZID=Europe/Paris:20260317T093000
DTEND;TZID=Europe/Paris:20260317T123000
DTSTAMP:20251105T085017Z
URL:https://pedagogie.u-pec.fr/ateliers/mobiliser-la-ludopedagogie-decouve
 rte-1-2/
SUMMARY:Mobiliser la ludopédagogie
DESCRIPTION:\n    .post-meta{\n        display: none\;\n    }\n    .em-even
 t-bookings-meta{\n        display: none\;\n    }\n    .et_post_meta_wrappe
 r{\n        display: none\;\n    }\n    section.em-item-meta-column{\n    
     display: none\;\n    }\n    div#respond.comment-respond{\n        disp
 lay: none\;\n    }\n    h1.entry-title.main_title{\n        display: none\
 ;\n    }\n \n    .post-meta{        display: none\;    }    .em-event-book
 ings-meta{        display: none\;    }    .et_post_meta_wrapper{        di
 splay: none\;    }    section.em-item-meta-column{        display: none\; 
    }    div#respond.comment-respond{        display: none\;    }    h1.ent
 ry-title.main_title{        display: none\;    }\nMobiliser la ludopédago
 gie\nDescription : Plongez dans l’univers de l’apprentissage par le je
 u et explorez ses enjeux et techniques pour dynamiser vos enseignements et
  engager vos étudiants.\nObjectifs d'apprentissage :\n\n 	Décrire les pr
 incipes fondamentaux et les enjeux de la ludopédagogie\n 	Identifier les 
 effets de la ludopédagogie sur les apprentissages\n 	Différencier les di
 fférentes catégories de jeux mobilisables dans les enseignements\n 	Conc
 evoir un scénario pédagogique intégrant la ludopédagogie\n\nDate :  1
 7/03/2026 de 9h30 à 11h30\nLieu : Salle Edulab de Fabuval Au niveau du co
 uloir P3 de la faculté des sciences et techniques de l’UPEC (Campus cen
 tre – métro Créteil Université)
END:VEVENT
BEGIN:VTIMEZONE
TZID:Europe/Paris
X-LIC-LOCATION:Europe/Paris
BEGIN:STANDARD
DTSTART:20251026T020000
TZOFFSETFROM:+0200
TZOFFSETTO:+0100
TZNAME:CET
END:STANDARD
END:VTIMEZONE
END:VCALENDAR