BEGIN:VCALENDAR
VERSION:2.0
PRODID:-//wp-events-plugin.com//7.2.3.1//EN
BEGIN:VEVENT
UID:3@pedagogie.u-pec.fr
DTSTART;TZID=Europe/Paris:20230816T100000
DTEND;TZID=Europe/Paris:20230816T170000
DTSTAMP:20230816T100631Z
URL:https://pedagogie.u-pec.fr/ateliers/nouvel-atelier-test/
SUMMARY:Nouvel atelier Test
DESCRIPTION:[et_pb_section fb_built="1" theme_builder_area="post_content" _
 builder_version="4.22.0" _module_preset="default"][/et_pb_section]
LOCATION:EduLab\, 61 Avenue du Général De Gaulle\, Créteil\, France\, 94
 000\, Val-De-Marne\, France
X-APPLE-STRUCTURED-LOCATION;VALUE=URI;X-ADDRESS=61 Avenue du Général De G
 aulle\, Créteil\, France\, 94000\, Val-De-Marne\, France;X-APPLE-RADIUS=1
 00;X-TITLE=EduLab:geo:0,0
END:VEVENT
BEGIN:VTIMEZONE
TZID:Europe/Paris
X-LIC-LOCATION:Europe/Paris
BEGIN:DAYLIGHT
DTSTART:20230326T030000
TZOFFSETFROM:+0100
TZOFFSETTO:+0200
TZNAME:CEST
END:DAYLIGHT
END:VTIMEZONE
END:VCALENDAR