BEGIN:VCALENDAR
VERSION:2.0
PRODID:-//wp-events-plugin.com//7.2.3.1//EN
BEGIN:VEVENT
UID:10@pedagogie.u-pec.fr
DTSTART;TZID=Europe/Paris:20260113T093000
DTEND;TZID=Europe/Paris:20260113T123000
DTSTAMP:20251105T084839Z
URL:https://pedagogie.u-pec.fr/ateliers/utiliser_les_pedagogies_actives/
SUMMARY:Pédagogie active : apprentissage et motivation renforcés
DESCRIPTION:[et_pb_section fb_built="1" admin_label="section" _builder_vers
 ion="4.16" global_colors_info="{}"][et_pb_row admin_label="row" _builder_v
 ersion="4.16" background_size="initial" background_position="top_left" bac
 kground_repeat="repeat" global_colors_info="{}"][et_pb_column type="4_4" _
 builder_version="4.16" custom_padding="|||" global_colors_info="{}" custom
 _padding__hover="|||"][et_pb_text admin_label="Text" _builder_version="4.1
 6" background_size="initial" background_position="top_left" background_rep
 eat="repeat" global_colors_info="{}"]Pédagogie active : apprentissage et 
 motivation renforcés				\n		Description&nbsp\;:Le concept de pédagogie a
 ctive est souvent abordé dans l’enseignement tant il est porteur de pro
 messes sur l’amélioration de l’apprentissage et l’engagement des é
 tudiants. Cet atelier vous permettra de saisir ses enjeux et de découvrir
  des méthodes que vous pourrez mettre en place pour augmenter l’impact 
 de vos enseignements.\nObjectifs d'apprentissage :\nDéfinir les concepts 
 de pédagogie active&nbsp\;et de motivation\nIdentifier les pistes d’int
 ervention pour susciter la motivation des étudiants\nIdentifier les enjeu
 x de la pédagogie active et les piliers qui permettent de la mettre en œ
 uvre\nUtiliser des méthodes favorisant l’activation pédagogique\n&nbsp
 \;\nDate :&nbsp\;13/01/2026 de 9h30 à 12h30\nLieu :Salle Edulab de Fabuva
 lAu niveau du couloir P3 de la faculté des sciences et techniques de l’
 UPEC (Campus centre – métro Créteil Université)2[/et_pb_text][/et_pb_
 column][/et_pb_row][/et_pb_section]
LOCATION:Salle Edulab de Fabuval\, Au niveau du couloir P3 de la faculté d
 es sciences et techniques de l’UPEC (Campus centre – métro Créteil U
 niversité)\, Créteil\, France
X-APPLE-STRUCTURED-LOCATION;VALUE=URI;X-ADDRESS=Au niveau du couloir P3 de 
 la faculté des sciences et techniques de l’UPEC (Campus centre – mét
 ro Créteil Université)\, Créteil\, France;X-APPLE-RADIUS=100;X-TITLE=Sa
 lle Edulab de Fabuval:geo:0,0
END:VEVENT
BEGIN:VTIMEZONE
TZID:Europe/Paris
X-LIC-LOCATION:Europe/Paris
BEGIN:STANDARD
DTSTART:20251026T020000
TZOFFSETFROM:+0200
TZOFFSETTO:+0100
TZNAME:CET
END:STANDARD
END:VTIMEZONE
END:VCALENDAR